BEGIN:VCALENDAR
VERSION:2.0
PRODID:-//The Collaborative - ECPv6.15.12.2//NONSGML v1.0//EN
CALSCALE:GREGORIAN
METHOD:PUBLISH
X-ORIGINAL-URL:https://traininghealthequity.org
X-WR-CALDESC:Events for The Collaborative
REFRESH-INTERVAL;VALUE=DURATION:PT1H
X-Robots-Tag:noindex
X-PUBLISHED-TTL:PT1H
BEGIN:VTIMEZONE
TZID:UTC
BEGIN:STANDARD
TZOFFSETFROM:+0000
TZOFFSETTO:+0000
TZNAME:UTC
DTSTART:20220101T000000
END:STANDARD
END:VTIMEZONE
BEGIN:VEVENT
DTSTART;TZID=UTC:20230223T120000
DTEND;TZID=UTC:20230223T130000
DTSTAMP:20260423T194526
CREATED:20230215T175932Z
LAST-MODIFIED:20230215T175932Z
UID:6212-1677153600-1677157200@traininghealthequity.org
SUMMARY:HIV Learning Network: Black Women’s Health & Wellness Across the Lifespan
DESCRIPTION:Register \n\n\nJoin us for the next HIV Learning Network session on February 23 @ 12:00pm (Pacific) for Black Women’s Health & Wellness Across the Lifespan\, by Lisa Frederick and Hanna Tessema\, DrPH\, MPH\, MSW\, Co-Directors\, Black Women’s Learning Institute. \nDescription:\nBlack women continue to be disproportionately impacted by HIV. According to the CDC\, in 2020\, Black/African American females ages 13 years or older made up 13% of the US female population but accounted for 54% of new HIV infections in women. Of those new infections\, 90% were attributed to heterosexual contact. Black women report that their needs are often overlooked by healthcare providers when serving communities at risk for HIV\, or even when addressing the general health needs of Black communities as a whole. In this session\, we’ve invited Lisa Frederick and Dr. Hanna Tessema\, co-founders of the Black Women’s Learning Institute\, to present on the findings of Engage. Empower. Educate (EEE)\, a national survey on Black women’s health and wellness.  From the results of the survey\, they will provide insight into Black women’s perspectives toward HIV care and prevention. Together\, we will examine the barriers that Black women face in engaging in HIV health care and prevention services and offer resources that are informed by their health and wellness needs. \nLearning Objectives:\nUpon completion of this session\, participants will be able to: \n\nIdentify the top 3 health concerns that impact the lives of Black women in the EEE Survey\nExplain at least 4 barriers Black women encounter when navigating the healthcare system\nDescribe differences in PrEP knowledge among participants in the EEE survey by region\n\nPhysicians:\nThis activity has been planned and implemented in accordance with the Essential Areas and Policies of the Accreditation Council for Continuing Medical Education through the joint providership of the University of Nevada School of Medicine and the Pacific AIDS Education and Training Center. The University of Nevada\, Reno School of Medicine is accredited by the ACCME to provide continuing medical education to physicians.The University of Nevada\, Reno School of Medicine designates this live activity for a maximum of 1.00 AMA PRA Category 1 Credits™. Physicians should claim only the credit commensurate with the extent of their participation in the activity. \nNurses:\nNurses may receive continuing education credit for this educational activity as the ANCC accepts AMA PRA Category 1 Credits™ through its reciprocity agreement. \nHIV Learning Network offers free CME for participants attending sessions\, pending completion of the post-session evaluation. \n\n\n\n\n\n\nPresented By:\nPacific AETC Regional Office\n\n\nContact Email:\nbrian.abascal@ucsf.edu\n\n\nContact Number:\n(415) 476-2434\n\n\nEvent Type:\nDistance based learning
URL:https://traininghealthequity.org/event/hiv-learning-network-black-womens-health-wellness-across-the-lifespan/
LOCATION:Zoom
END:VEVENT
END:VCALENDAR